BEGIN:VCALENDAR
VERSION:2.0
PRODID:-//eventon.com NONSGML v1.0//EN
BEGIN:VEVENT
UID:69ead96163069
DTSTAMP:20260424T024553
DTSTART:20210615T183000Z
DTEND:20210615T210000Z
LOCATION:
SUMMARY:June 2021's Shed Tour & BBQ at Peter Walker's Shed
DESCRIPTION: With very kind thanks to Pete\,  June's Shed Tour will see us visiting Pete Walker’s shed(s) for a BBQ on Tuesday 15th June\,  from 6.30pm. Details on the members' page. There's room for 12 - 15 Lotus in the yard - first in best dressed! &nbsp;
END:VEVENT
END:VCALENDAR