BEGIN:VCALENDAR
VERSION:2.0
PRODID:-//eventon.com NONSGML v1.0//EN
BEGIN:VEVENT
UID:69e5f63bae8c9
DTSTAMP:20260420T094739
DTSTART:20210917T000000Z
DTEND:20210919T235900Z
LOCATION:Baskerville Raceway 
SUMMARY:HSCC's 2021 Baskerville Historics
DESCRIPTION: The Hobart Sporting Car Club's Baskerville Historics historic race meeting is back for 2021 after the pandemic resulted in the cancellation of 2020's event. The meeting will run at Baskerville Raceway from Friday the 17th of September to Sunday the 19th\,  featuring practice\,  qualifying\,  racing and a grid walk on[..]
END:VEVENT
END:VCALENDAR