BEGIN:VCALENDAR
VERSION:2.0
PRODID:-//eventon.com NONSGML v1.0//EN
BEGIN:VEVENT
UID:69ea11872ed09
DTSTAMP:20260423T123311
DTSTART:20220417T090000Z
DTEND:20220417T235000Z
LOCATION:Gough Whitlam Park Bayview Avenue\,  Earlwood NSW 2206
SUMMARY:Tyre Kick & Coffee 2022: Gough Whitlam Park
DESCRIPTION: For the time being we're heading back to Gough Whitlam Park for the second of our two Tyre Kick & Coffee meet-ups. On the third Sunday of each month we get together to enjoy each other’s company over a morning coffee and some tyre kicking. To provide a location in[..]
END:VEVENT
END:VCALENDAR