BEGIN:VCALENDAR
VERSION:2.0
PRODID:-//eventon.com NONSGML v1.0//EN
BEGIN:VEVENT
UID:69e7625bd8be6
DTSTAMP:20260421T114115
DTSTART:20240303T090000Z
DTEND:20250303T130000Z
LOCATION:Beaumont Road Beaumont Road
SUMMARY:SA Get Together
DESCRIPTION: SA Get Together
END:VEVENT
END:VCALENDAR