BEGIN:VCALENDAR
VERSION:2.0
PRODID:-//eventon.com NONSGML v1.0//EN
BEGIN:VEVENT
UID:69e4d31e96b55
DTSTAMP:20260419T130534
DTSTART:20260329T000000Z
DTEND:20260329T235900Z
LOCATION:One Raceway  4770 Braidwood Rd\,  Tirrannaville NSW 2580
SUMMARY:CSCA 2026 Round 2: One Raceway Anti Clockwise Shelley Circuit
DESCRIPTION: CSCA 2026 Round 2: One Raceway Anti Clockwise Shelley Circuit
END:VEVENT
END:VCALENDAR