BEGIN:VCALENDAR
VERSION:2.0
PRODID:-//eventon.com NONSGML v1.0//EN
BEGIN:VEVENT
UID:69e754331f787
DTSTAMP:20260421T104051
DTSTART:20260503T000000Z
DTEND:20260503T235900Z
LOCATION:Sydney Motorsport Park Brabham Dr Eastern Creek NSW 2766
SUMMARY:CSCA 2026 Round 3: Sydney Motorsport Park South (Amaroo) Circuit
DESCRIPTION: CSCA 2026 Round 3: Sydney Motorsport Park South (Amaroo) Circuit
END:VEVENT
END:VCALENDAR