BEGIN:VCALENDAR
VERSION:2.0
PRODID:-//eventon.com NONSGML v1.0//EN
BEGIN:VEVENT
UID:69ebcf302261e
DTSTAMP:20260424T201440
DTSTART:20261114T000000Z
DTEND:20261114T235900Z
LOCATION:Sydney Motorsport Park Brabham Dr Eastern Creek NSW 2766
SUMMARY:CSCA 2026 Round 6: Sydney Motorsport Park North (Druitt) Circuit
DESCRIPTION: CSCA 2026 Round 6: Sydney Motorsport Park North (Druitt) Circuit
END:VEVENT
END:VCALENDAR