BEGIN:VCALENDAR
VERSION:2.0
PRODID:-//eventon.com NONSGML v1.0//EN
BEGIN:VEVENT
UID:69e7b5714212d
DTSTAMP:20260421T173545
DTSTART:20260510T083000Z
DTEND:20260510T103000Z
LOCATION:By the Bay Cafe 107 Carwar Ave
SUMMARY:Tyre Kick & Coffee 2026: By the Bay Cafe at Carss Park
DESCRIPTION: Calling all Southerners (and those who feel like a drive)! On the second Sunday of each month\,  we hold a Tyre Kick & Coffee at By the Bay Cafe in Carss Park from 8:30am. Come along and say ‘Hi!’ We meet on the second Sunday of the month at By[..]
END:VEVENT
END:VCALENDAR