BEGIN:VCALENDAR
VERSION:2.0
PRODID:-//eventon.com NONSGML v1.0//EN
BEGIN:VEVENT
UID:69ebb96c6a4a7
DTSTAMP:20260424T184148
DTSTART:20260705T090000Z
DTEND:20260705T120000Z
LOCATION:Beaumont Road Beaumont Road
SUMMARY:South Australia's Monthly Catch-Up: 2026
DESCRIPTION: South Australia's Monthly Catch-Up: 2026
END:VEVENT
END:VCALENDAR