BEGIN:VCALENDAR
VERSION:2.0
PRODID:-//eventon.com NONSGML v1.0//EN
BEGIN:VEVENT
UID:69ebb995a9696
DTSTAMP:20260424T184229
DTSTART:20261101T090000Z
DTEND:20261101T120000Z
LOCATION:Beaumont Road Beaumont Road
SUMMARY:South Australia's Monthly Catch-Up: 2026
DESCRIPTION: South Australia's Monthly Catch-Up: 2026
END:VEVENT
END:VCALENDAR