BEGIN:VCALENDAR
VERSION:2.0
PRODID:-//eventon.com NONSGML v1.0//EN
BEGIN:VEVENT
UID:69e75413ce929
DTSTAMP:20260421T104019
DTSTART:20260503T000000Z
DTEND:20260503T235900Z
LOCATION:Mallala Motor Sport Park Aerodrome Rd\,  Mallala SA 5502
SUMMARY:2026 MSCA Peter Hall Memorial 6-Hour Regularity Relay
DESCRIPTION: 2026 MSCA Peter Hall Memorial 6-Hour Regularity Relay
END:VEVENT
END:VCALENDAR