BEGIN:VCALENDAR
VERSION:2.0
PRODID:-//eventon.com NONSGML v1.0//EN
BEGIN:VEVENT
UID:69e7543ba396e
DTSTAMP:20260421T104059
DTSTART:20260510T000000Z
DTEND:20260510T235900Z
LOCATION:Collingrove Hillclimb 71 Hill Climb Rd\,  Mount McKenzie SA 5353
SUMMARY:2026 Collingwood Challenge Hillclimb 2
DESCRIPTION: 2026 Collingwood Challenge Hillclimb 2
END:VEVENT
END:VCALENDAR