BEGIN:VCALENDAR
VERSION:2.0
PRODID:-//eventon.com NONSGML v1.0//EN
BEGIN:VEVENT
UID:69ebb91401d7b
DTSTAMP:20260424T184020
DTSTART:20260531T000000Z
DTEND:20260531T235900Z
LOCATION:Collingrove Hillclimb 71 Hill Climb Rd\,  Mount McKenzie SA 5353
SUMMARY:2026 SCCSA Winter Cup Hillclimb 2
DESCRIPTION: 2026 SCCSA Winter Cup Hillclimb 2
END:VEVENT
END:VCALENDAR