BEGIN:VCALENDAR
VERSION:2.0
PRODID:-//eventon.com NONSGML v1.0//EN
BEGIN:VEVENT
UID:69ebb8e60d0e5
DTSTAMP:20260424T183934
DTSTART:20270110T083000Z
DTEND:20270110T120000Z
LOCATION:Guildford Railway Station 
SUMMARY:2026 WA Early Morning Runs
DESCRIPTION: 2026 WA Early Morning Runs
END:VEVENT
END:VCALENDAR