BEGIN:VCALENDAR
VERSION:2.0
PRODID:-//eventon.com NONSGML v1.0//EN
BEGIN:VEVENT
UID:69e75528cf368
DTSTAMP:20260421T104456
DTSTART:20260510T083000Z
DTEND:20260510T120000Z
LOCATION:Guildford Railway Station 
SUMMARY:2026 WA Early Morning Runs
DESCRIPTION: 2026 WA Early Morning Runs
END:VEVENT
END:VCALENDAR