BEGIN:VCALENDAR
VERSION:2.0
PRODID:-//eventon.com NONSGML v1.0//EN
BEGIN:VEVENT
UID:69ea034b27f46
DTSTAMP:20260423T113227
DTSTART:20260809T083000Z
DTEND:20260809T120000Z
LOCATION:Guildford Railway Station 
SUMMARY:2026 WA Early Morning Runs
DESCRIPTION: 2026 WA Early Morning Runs
END:VEVENT
END:VCALENDAR