BEGIN:VCALENDAR
VERSION:2.0
PRODID:-//eventon.com NONSGML v1.0//EN
BEGIN:VEVENT
UID:69ebb8b37dfee
DTSTAMP:20260424T183843
DTSTART:20260913T083000Z
DTEND:20260913T120000Z
LOCATION:Guildford Railway Station 
SUMMARY:2026 WA Early Morning Runs
DESCRIPTION: 2026 WA Early Morning Runs
END:VEVENT
END:VCALENDAR