BEGIN:VCALENDAR
VERSION:2.0
PRODID:-//eventon.com NONSGML v1.0//EN
BEGIN:VEVENT
UID:69ebccde44079
DTSTAMP:20260424T200446
DTSTART:20261108T083000Z
DTEND:20261108T120000Z
LOCATION:Guildford Railway Station 
SUMMARY:2026 WA Early Morning Runs
DESCRIPTION: 2026 WA Early Morning Runs
END:VEVENT
END:VCALENDAR