BEGIN:VCALENDAR
VERSION:2.0
PRODID:-//eventon.com NONSGML v1.0//EN
BEGIN:VEVENT
UID:69e5c491cdbe8
DTSTAMP:20260420T061545
DTSTART:20151024T070000Z
DTEND:20151024T170000Z
LOCATION:Wakefield Park  4770 Braidwood Rd\,  Tirrannaville NSW 2580
SUMMARY:CSCA Motorsport Track & Training Day
DESCRIPTION: Entries are now open for the CSCA Motorsport Track & Training Day. Head to MotorEventEntry here to enter. The cost is an exceptionally reasonable $130 per driver. The Track & Training Day is sponsored by the CSCA and is being run by the Triumph Club with assistance from other member clubs.[..]
END:VEVENT
END:VCALENDAR