BEGIN:VCALENDAR
VERSION:2.0
PRODID:-//eventon.com NONSGML v1.0//EN
BEGIN:VEVENT
UID:69ead45be1356
DTSTAMP:20260424T022427
DTSTART:20151104T180000Z
DTEND:20151104T230000Z
LOCATION:Royal Automobile Club of Australia 89 Macquarie St Sydney NSW 2000
SUMMARY:Royal Automobile Club of Australia Information Evening
DESCRIPTION: The Royal Automobile Club of Australia is holding an information evening on Wednesday the 4th of November for motoring enthusiasts to learn more about their recently launched conditional registration scheme trial. It's an opportunity to meet with senior members of New South Wales Roads and Maritime Services for information and[..]
END:VEVENT
END:VCALENDAR