BEGIN:VCALENDAR
VERSION:2.0
PRODID:-//eventon.com NONSGML v1.0//EN
BEGIN:VEVENT
UID:69e74cfc25f06
DTSTAMP:20260421T101004
DTSTART:20160420T180000Z
DTEND:20160420T220000Z
LOCATION:Sydney Rowing Club 613 Great N Rd\,  Abbotsford NSW 2046
SUMMARY:CLA NSW: April Monthly Meeting at the Watergrill Bistro
DESCRIPTION: Our April monthly meeting will be held at the Sydney Rowing Club Watergrill Bistro this Wednesday\,  April 20th. We're booked in for 7PM\,  but Anne will be there from 6PM to hold the booking\,  so why not arrive a little early for a catch-up and a drink? Sydney Rowing Club[..]
END:VEVENT
END:VCALENDAR