BEGIN:VCALENDAR
VERSION:2.0
PRODID:-//eventon.com NONSGML v1.0//EN
BEGIN:VEVENT
UID:69e60a09d4c3a
DTSTAMP:20260420T111209
DTSTART:20160611T010000Z
DTEND:20160612T010000Z
LOCATION:Sydney Motorsport Park Brabham Dr Eastern Creek NSW 2766
SUMMARY:HSRCA: Sydney Retro Racefest
DESCRIPTION: HSRCA: Sydney Retro Racefest
END:VEVENT
END:VCALENDAR