BEGIN:VCALENDAR
VERSION:2.0
PRODID:-//eventon.com NONSGML v1.0//EN
BEGIN:VEVENT
UID:69e60460bb1c0
DTSTAMP:20260420T104800
DTSTART:20161120T090000Z
DTEND:20161120T130000Z
LOCATION:Caves Beach Hotel 55 Caves Beach Rd\,  Caves Beach\,  NSW\,  2281
SUMMARY:LOST Fraternity Caves Beach Favourite Run
DESCRIPTION: This coming Sunday\,  20th Nov\,  2016\,  to Caves Beach Hotel. We will meet in Belmont on the main road opposite the car park alongside the lake. [It's so difficult to get back out of that car park.] 09:00 for 09:15 departure for Caves Beach. For anyone going direct we should[..]
END:VEVENT
END:VCALENDAR