BEGIN:VCALENDAR
VERSION:2.0
PRODID:-//eventon.com NONSGML v1.0//EN
BEGIN:VEVENT
UID:69e5f5d473d13
DTSTAMP:20260420T094556
DTSTART:20170311T010000Z
DTEND:20170311T010000Z
LOCATION:Wakefield Park  4770 Braidwood Rd\,  Tirrannaville NSW 2580
SUMMARY:CSCA Round 1 at Wakefield Park
DESCRIPTION: Round 1 of the 2017 Combined Sports Car Association sprint championship. Supplementary Regulations & Other Event Documentation CSCA 2017 Round 1 Supplementary Regulations [PDF] Wakefield Park Disclaimer [PDF]
END:VEVENT
END:VCALENDAR