BEGIN:VCALENDAR
VERSION:2.0
PRODID:-//eventon.com NONSGML v1.0//EN
BEGIN:VEVENT
UID:69e74d296e032
DTSTAMP:20260421T101049
DTSTART:20170218T080000Z
DTEND:20170218T150000Z
LOCATION:Michael Cronin Oval 22/42 Blackwood St\,  Gerringong NSW 2534
SUMMARY:Gerringong Motor Fest 2017
DESCRIPTION: The Gerringong Lions Club will hold the Gerringong Motor Fest on Saturday the 18th of February\,  2017\,  on Michael Cronin Oval in Gerringong. The organisers have set aside ten spots for Club Lotus Australia and we’re looking for cars to fill them\,  as well as a few friends to spend the day[..]
END:VEVENT
END:VCALENDAR