BEGIN:VCALENDAR
VERSION:2.0
PRODID:-//eventon.com NONSGML v1.0//EN
BEGIN:VEVENT
UID:69e663c37fd40
DTSTAMP:20260420T173459
DTSTART:20170520T010000Z
DTEND:20170521T010000Z
LOCATION:Peppers Craigieburn Centennial Rd\,  Bowral NSW 2576
SUMMARY:A Weekend Driving Bowral and Surrounds
DESCRIPTION: Ed Burton has organised a drive to Bowral and its surrounds for the weekend of the 20th & 21st of May\,  2017\,  and it sounds absolutely brilliant! Read on for the details\,  and get in touch with Ed to let him know you're interested. Day/weekend drive to Bowral and surrounds[..]
END:VEVENT
END:VCALENDAR