BEGIN:VCALENDAR
VERSION:2.0
PRODID:-//eventon.com NONSGML v1.0//EN
BEGIN:VEVENT
UID:69e69dadf224e
DTSTAMP:20260420T214205
DTSTART:20170507T010000Z
DTEND:20170507T010000Z
LOCATION:McDonald Jones Stadium 294 Turton Road\,  Broadmeadow NSW 2292
SUMMARY:LOST Fraternity Run to Euro Motorfest 2017
DESCRIPTION: The LOST Fraternity is heading to Euro Motorfest 2017 on Sunday the 7th of May. They'll meet at Wallarah Rd & Monash Rd in New Lambton at 9:15 for a 9:30 departure. Euro Motorfest 2017 will be held at McDonald Jones Stadium in Broadmeadow and presented by the MG Car[..]
END:VEVENT
END:VCALENDAR