BEGIN:VCALENDAR
VERSION:2.0
PRODID:-//eventon.com NONSGML v1.0//EN
BEGIN:VEVENT
UID:69eca050affa2
DTSTAMP:20260425T110656
DTSTART:20150408T010000Z
DTEND:20150408T010000Z
LOCATION:Wakefield Park  4770 Braidwood Rd\,  Tirrannaville NSW 2580
SUMMARY:1st Gear Day
DESCRIPTION: 1st Gear Day
END:VEVENT
END:VCALENDAR