BEGIN:VCALENDAR
VERSION:2.0
PRODID:-//eventon.com NONSGML v1.0//EN
BEGIN:VEVENT
UID:69e5f5cb69939
DTSTAMP:20260420T094547
DTSTART:20190525T010000Z
DTEND:20190525T010000Z
LOCATION:Sydney Motorsport Park Brabham Dr Eastern Creek NSW 2766
SUMMARY:CSCA 2019: Round Three at Sydney Motorsport Park Druitt
DESCRIPTION: CSCA 2019: Round Three at Sydney Motorsport Park Druitt
END:VEVENT
END:VCALENDAR