BEGIN:VCALENDAR
VERSION:2.0
PRODID:-//eventon.com NONSGML v1.0//EN
BEGIN:VEVENT
UID:69e89f548268b
DTSTAMP:20260422T101340
DTSTART:20150610T010000Z
DTEND:20150610T010000Z
LOCATION:Wakefield Park  4770 Braidwood Rd\,  Tirrannaville NSW 2580
SUMMARY:1st GEAR Day June
DESCRIPTION: 1st GEAR Day June
END:VEVENT
END:VCALENDAR