BEGIN:VCALENDAR
VERSION:2.0
PRODID:-//eventon.com NONSGML v1.0//EN
BEGIN:VEVENT
UID:69e8b26763c85
DTSTAMP:20260422T113503
DTSTART:20150614T080000Z
DTEND:20150614T120000Z
LOCATION:
SUMMARY:CLA WA Early Morning Run
DESCRIPTION: CLA WA Early Morning Run
END:VEVENT
END:VCALENDAR