BEGIN:VCALENDAR
VERSION:2.0
PRODID:-//eventon.com NONSGML v1.0//EN
BEGIN:VEVENT
UID:69eb3cf08d55c
DTSTAMP:20260424T095040
DTSTART:20150711T010000Z
DTEND:20150712T010000Z
LOCATION:Morgan Park Raceway Morgan Park QLD 4370
SUMMARY:Morgan Park Historics
DESCRIPTION: Morgan Park Historics
END:VEVENT
END:VCALENDAR