BEGIN:VCALENDAR
VERSION:2.0
PRODID:-//eventon.com NONSGML v1.0//EN
BEGIN:VEVENT
UID:69e4d1b613445
DTSTAMP:20260419T125934
DTSTART:20150914T180000Z
DTEND:20150914T223000Z
LOCATION:
SUMMARY:CLA WA: Boab Tree Meet & Eat
DESCRIPTION: CLA WA: Boab Tree Meet & Eat
END:VEVENT
END:VCALENDAR