BEGIN:VCALENDAR
VERSION:2.0
PRODID:-//eventon.com NONSGML v1.0//EN
BEGIN:VEVENT
UID:69e7766f11ece
DTSTAMP:20260421T130655
DTSTART:20191020T010000Z
DTEND:20191020T010000Z
LOCATION:
SUMMARY:WA's October Early Morning Run
DESCRIPTION: WA's October Early Morning Run
END:VEVENT
END:VCALENDAR