BEGIN:VCALENDAR
VERSION:2.0
PRODID:-//eventon.com NONSGML v1.0//EN
BEGIN:VEVENT
UID:69e5f62724a68
DTSTAMP:20260420T094719
DTSTART:20200222T000000Z
DTEND:20200222T235900Z
LOCATION:Barbagallo Raceway Wattle Avenue East\,  Neerabup\,  WA 6031 Australia
SUMMARY:SES: Jack's Hill Climb
DESCRIPTION: SES: Jack's Hill Climb
END:VEVENT
END:VCALENDAR