BEGIN:VCALENDAR
VERSION:2.0
PRODID:-//eventon.com NONSGML v1.0//EN
BEGIN:VEVENT
UID:69e5f66ab164e
DTSTAMP:20260420T094826
DTSTART:20201025T000000Z
DTEND:20201025T235900Z
LOCATION:Jack&#039;s Hill Climb 610 Wattle Ave E Neerabup WA 6031 Australia
SUMMARY:SES 2020 Round 14: Jack's Hill
DESCRIPTION: SES 2020 Round 14: Jack's Hill
END:VEVENT
END:VCALENDAR